BEGIN:VCALENDAR
VERSION:2.0
PRODID:-//wp-events-plugin.com//7.2.3.1//EN
TZID:America/Los_Angeles
X-WR-TIMEZONE:America/Los_Angeles
BEGIN:VEVENT
UID:22@sickcells.org
DTSTART:20200424T140000Z
DTEND:20200424T150000Z
DTSTAMP:20200722T210521Z
URL:https://sickcells.org/events/texas-dur-meeting-review-of-scd-treatment
 s/
SUMMARY:Texas DUR Meeting: Review of SCD Treatments
DESCRIPTION:
CATEGORIES:DUR Meetings
LOCATION:Public Hearing Room\, 900 N Lamar Blvd.\, Austin\, TX\, 78751\, Un
 ited States
GEO:30.274181;-97.752981
X-APPLE-STRUCTURED-LOCATION;VALUE=URI;X-ADDRESS=900 N Lamar Blvd.\, Austin\
 , TX\, 78751\, United States;X-APPLE-RADIUS=100;X-TITLE=Public Hearing Roo
 m:geo:30.274181,-97.752981
END:VEVENT
END:VCALENDAR