BEGIN:VCALENDAR
VERSION:2.0
PRODID:-//wp-events-plugin.com//7.2.3.1//EN
TZID:America/Los_Angeles
X-WR-TIMEZONE:America/Los_Angeles
BEGIN:VEVENT
UID:93@sickcells.org
DTSTART:20210901T223000Z
DTEND:20210901T233000Z
DTSTAMP:20210819T154706Z
URL:https://sickcells.org/events/sickletini-swing-into-fall-virtual-fundra
 iser-happy-hour/
SUMMARY:SickleTini "Swing Into Fall" Virtual FUNdraiser Happy Hour
DESCRIPTION:
ATTACH;FMTTYPE=image/jpeg:https://sickcells.org/wp-content/uploads/2021/08
 /sickletini.png
CATEGORIES:Walks and Events
END:VEVENT
END:VCALENDAR