BEGIN:VCALENDAR
VERSION:2.0
PRODID:-//wp-events-plugin.com//7.2.3.1//EN
TZID:America/Los_Angeles
X-WR-TIMEZONE:America/Los_Angeles
BEGIN:VEVENT
UID:216@sickcells.org
DTSTART;VALUE=DATE:20230916
DTEND;VALUE=DATE:20230917
DTSTAMP:20230905T161002Z
URL:https://sickcells.org/events/sickle-cell-houstons-amazing-race-5k-1k/
SUMMARY:Sickle Cell Houston's Amazing Race 5k/1k
DESCRIPTION:
ATTACH;FMTTYPE=image/jpeg:https://sickcells.org/wp-content/uploads/2023/09
 /Houston-5k.png
CATEGORIES:Walks and Events
END:VEVENT
END:VCALENDAR