BEGIN:VCALENDAR
VERSION:2.0
PRODID:-//wp-events-plugin.com//7.2.3.1//EN
TZID:America/Los_Angeles
X-WR-TIMEZONE:America/Los_Angeles
BEGIN:VEVENT
UID:154@sickcells.org
DTSTART:20220603T000000Z
DTEND:20220603T010000Z
DTSTAMP:20220531T154115Z
URL:https://sickcells.org/events/sickle-cell-disease-legislation-community
 -workshop/
SUMMARY:Sickle Cell Disease Legislation Community Workshop
DESCRIPTION:
ATTACH;FMTTYPE=image/jpeg:https://sickcells.org/wp-content/uploads/2022/05
 /workshop.png
CATEGORIES:Sick Cells' Event,Virtual,Webinars
END:VEVENT
END:VCALENDAR