BEGIN:VCALENDAR
VERSION:2.0
PRODID:-//wp-events-plugin.com//7.2.3.1//EN
TZID:America/Los_Angeles
X-WR-TIMEZONE:America/Los_Angeles
BEGIN:VEVENT
UID:138@sickcells.org
DTSTART;TZID=America/New_York:20220407T120000
DTEND;TZID=America/New_York:20220407T130000
DTSTAMP:20220202T171018Z
URL:https://sickcells.org/events/scdaa-p-o-w-e-r-echo-community-health-wor
 ker-training-impact-of-covid-on-chws/
SUMMARY:SCDAA P.O.W.E.R. ECHO Community Health Worker Training- "Impact of 
 COVID on CHWs"
DESCRIPTION:
ATTACH;FMTTYPE=image/jpeg:https://sickcells.org/wp-content/uploads/2022/02
 /SCDAA-Power-Echo.png
CATEGORIES:Virtual,Webinars
END:VEVENT
BEGIN:VTIMEZONE
TZID:America/New_York
X-LIC-LOCATION:America/New_York
BEGIN:DAYLIGHT
DTSTART:20220313T030000
TZOFFSETFROM:-0500
TZOFFSETTO:-0400
TZNAME:EDT
END:DAYLIGHT
END:VTIMEZONE
END:VCALENDAR