BEGIN:VCALENDAR
VERSION:2.0
PRODID:-//wp-events-plugin.com//7.2.3.1//EN
TZID:America/Los_Angeles
X-WR-TIMEZONE:America/Los_Angeles
BEGIN:VEVENT
UID:212@sickcells.org
DTSTART;VALUE=DATE:20231103
DTEND;VALUE=DATE:20231105
DTSTAMP:20230905T154233Z
URL:https://sickcells.org/events/scago-3rd-annual-sickle-cell-summit/
SUMMARY:SCAGO 3rd Annual Sickle Cell Summit
DESCRIPTION:
CATEGORIES:Conferences,Hybrid (Virtual and In-Person Options)
END:VEVENT
END:VCALENDAR