BEGIN:VCALENDAR
VERSION:2.0
PRODID:-//wp-events-plugin.com//7.2.3.1//EN
TZID:America/Los_Angeles
X-WR-TIMEZONE:America/Los_Angeles
BEGIN:VEVENT
UID:122@sickcells.org
DTSTART;VALUE=DATE:20220314
DTEND;VALUE=DATE:20220315
DTSTAMP:20210915T210420Z
URL:https://sickcells.org/events/grndad-speaks-series-neuropsychological-f
 unctioning-in-scd-risk-and-protective-factors/
SUMMARY:GRNDaD Speaks Series: Neuropsychological Functioning in SCD: Risk a
 nd Protective Factors
DESCRIPTION:
ATTACH;FMTTYPE=image/jpeg:https://sickcells.org/wp-content/uploads/2021/09
 /GRNDaD_Logo.png
CATEGORIES:Conferences,Virtual
END:VEVENT
END:VCALENDAR