BEGIN:VCALENDAR
VERSION:2.0
PRODID:-//wp-events-plugin.com//7.2.3.1//EN
TZID:America/Los_Angeles
X-WR-TIMEZONE:America/Los_Angeles
BEGIN:VEVENT
UID:64@sickcells.org
DTSTART;VALUE=DATE:20210312
DTEND;VALUE=DATE:20210315
DTSTAMP:20210303T182326Z
URL:https://sickcells.org/events/camp-next-level/
SUMMARY:Camp Next Level
DESCRIPTION:
ATTACH;FMTTYPE=image/jpeg:https://sickcells.org/wp-content/uploads/2021/03
 /camp-next-level.png
CATEGORIES:Walks and Events
END:VEVENT
END:VCALENDAR