BEGIN:VCALENDAR
VERSION:2.0
PRODID:-//wp-events-plugin.com//7.2.3.1//EN
TZID:America/Los_Angeles
X-WR-TIMEZONE:America/Los_Angeles
BEGIN:VEVENT
UID:101@sickcells.org
DTSTART:20211112T170000Z
DTEND:20211112T183000Z
DTSTAMP:20210903T210219Z
URL:https://sickcells.org/events/advancing-patient-centered-outcomes-and-i
 mpacts-in-value-assessment-webinar-2/
SUMMARY:Advancing Patient-Centered Outcomes and Impacts in Value Assessment
  Webinar #2
DESCRIPTION:
ATTACH;FMTTYPE=image/jpeg:https://sickcells.org/wp-content/uploads/2021/09
 /PhRMA-Foundation.png
CATEGORIES:Webinars
END:VEVENT
END:VCALENDAR