BEGIN:VCALENDAR
VERSION:2.0
PRODID:-//wp-events-plugin.com//7.2.3.1//EN
TZID:America/Los_Angeles
X-WR-TIMEZONE:America/Los_Angeles
BEGIN:VEVENT
UID:179@sickcells.org
DTSTART:20220922T122500Z
DTEND:20220922T203000Z
DTSTAMP:20220906T233102Z
URL:https://sickcells.org/events/41st-annual-immunohematology-and-blood-tr
 ansfusion-symposium/
SUMMARY:41st Annual Immunohematology and Blood Transfusion Symposium
DESCRIPTION:
ATTACH;FMTTYPE=image/jpeg:https://sickcells.org/wp-content/uploads/2022/09
 /NIH-Transfusion-Logo.png
CATEGORIES:Conferences,Virtual
END:VEVENT
END:VCALENDAR